Package: ReactomeGSA.data Version: 1.20.0 Command: /home/biocbuild/bbs-3.20-bioc/R/bin/R CMD build --keep-empty-dirs --no-resave-data ReactomeGSA.data StartedAt: 2025-01-30 11:34:02 -0500 (Thu, 30 Jan 2025) EndedAt: 2025-01-30 11:35:24 -0500 (Thu, 30 Jan 2025) EllapsedTime: 81.8 seconds RetCode: 0 Status: OK PackageFile: ReactomeGSA.data_1.20.0.tar.gz PackageFileSize: 23.08 MiB