Package: ReactomeGSA.data Version: 1.20.0 Command: /home/biocbuild/bbs-3.20-bioc/R/bin/R CMD check --install=check:ReactomeGSA.data.install-out.txt --library=/home/biocbuild/bbs-3.20-bioc/R/site-library --timings ReactomeGSA.data_1.20.0.tar.gz StartedAt: 2025-02-06 12:30:14 -0500 (Thu, 06 Feb 2025) EndedAt: 2025-02-06 12:31:18 -0500 (Thu, 06 Feb 2025) EllapsedTime: 63.3 seconds RetCode: 0 Status: WARNINGS CheckDir: ReactomeGSA.data.Rcheck Warnings: 3