Package: RnBeads.mm9 Version: 1.38.0 Command: /home/biocbuild/bbs-3.20-bioc/R/bin/R CMD check --install=check:RnBeads.mm9.install-out.txt --library=/home/biocbuild/bbs-3.20-bioc/R/site-library --timings RnBeads.mm9_1.38.0.tar.gz StartedAt: 2025-02-06 12:32:10 -0500 (Thu, 06 Feb 2025) EndedAt: 2025-02-06 12:34:16 -0500 (Thu, 06 Feb 2025) EllapsedTime: 125.9 seconds RetCode: 0 Status: OK CheckDir: RnBeads.mm9.Rcheck Warnings: 0