Package: RnBeads.rn5 Version: 1.38.0 Command: /home/biocbuild/bbs-3.20-bioc/R/bin/R CMD build --keep-empty-dirs --no-resave-data RnBeads.rn5 StartedAt: 2025-02-06 11:34:08 -0500 (Thu, 06 Feb 2025) EndedAt: 2025-02-06 11:34:15 -0500 (Thu, 06 Feb 2025) EllapsedTime: 6.9 seconds RetCode: 0 Status: OK PackageFile: RnBeads.rn5_1.38.0.tar.gz PackageFileSize: 106.8 MiB