Package: SBGNview.data Version: 1.20.0 Command: /home/biocbuild/bbs-3.20-bioc/R/bin/R CMD build --keep-empty-dirs --no-resave-data SBGNview.data StartedAt: 2025-01-30 11:36:25 -0500 (Thu, 30 Jan 2025) EndedAt: 2025-01-30 11:37:13 -0500 (Thu, 30 Jan 2025) EllapsedTime: 47.9 seconds RetCode: 0 Status: OK PackageFile: SBGNview.data_1.20.0.tar.gz PackageFileSize: 65.91 MiB