Package: SBGNview.data Version: 1.20.0 Command: /home/biocbuild/bbs-3.20-bioc/R/bin/R CMD check --install=check:SBGNview.data.install-out.txt --library=/home/biocbuild/bbs-3.20-bioc/R/site-library --timings SBGNview.data_1.20.0.tar.gz StartedAt: 2025-02-06 12:35:55 -0500 (Thu, 06 Feb 2025) EndedAt: 2025-02-06 12:37:36 -0500 (Thu, 06 Feb 2025) EllapsedTime: 101.7 seconds RetCode: 0 Status: OK CheckDir: SBGNview.data.Rcheck Warnings: 0