Package: SCLCBam Version: 1.38.0 Command: /home/biocbuild/bbs-3.20-bioc/R/bin/R CMD check --install=check:SCLCBam.install-out.txt --library=/home/biocbuild/bbs-3.20-bioc/R/site-library --timings SCLCBam_1.38.0.tar.gz StartedAt: 2025-02-06 12:36:32 -0500 (Thu, 06 Feb 2025) EndedAt: 2025-02-06 12:36:49 -0500 (Thu, 06 Feb 2025) EllapsedTime: 17.4 seconds RetCode: 0 Status: OK CheckDir: SCLCBam.Rcheck Warnings: 0