Package: SFEData Version: 1.8.1 Command: /home/biocbuild/bbs-3.20-bioc/R/bin/R CMD check --install=check:SFEData.install-out.txt --library=/home/biocbuild/bbs-3.20-bioc/R/site-library --timings SFEData_1.8.1.tar.gz StartedAt: 2025-02-06 12:37:43 -0500 (Thu, 06 Feb 2025) EndedAt: 2025-02-06 12:40:14 -0500 (Thu, 06 Feb 2025) EllapsedTime: 150.6 seconds RetCode: 0 Status: OK CheckDir: SFEData.Rcheck Warnings: 0