Package: SFEData Version: 1.8.1 Command: /home/biocbuild/bbs-3.20-bioc/R/bin/R CMD INSTALL SFEData StartedAt: 2025-02-11 10:56:45 -0500 (Tue, 11 Feb 2025) EndedAt: 2025-02-11 10:56:59 -0500 (Tue, 11 Feb 2025) EllapsedTime: 13.7 seconds RetCode: 0 Status: OK