Package: SNAData Version: 1.52.0 Command: /home/biocbuild/bbs-3.20-bioc/R/bin/R CMD check --install=check:SNAData.install-out.txt --library=/home/biocbuild/bbs-3.20-bioc/R/site-library --timings SNAData_1.52.0.tar.gz StartedAt: 2025-01-30 12:41:06 -0500 (Thu, 30 Jan 2025) EndedAt: 2025-01-30 12:41:33 -0500 (Thu, 30 Jan 2025) EllapsedTime: 27.6 seconds RetCode: 0 Status: OK CheckDir: SNAData.Rcheck Warnings: 0