Package: SNAData Version: 1.52.0 Command: /home/biocbuild/bbs-3.20-bioc/R/bin/R CMD INSTALL SNAData StartedAt: 2025-01-30 10:56:26 -0500 (Thu, 30 Jan 2025) EndedAt: 2025-01-30 10:56:30 -0500 (Thu, 30 Jan 2025) EllapsedTime: 3.8 seconds RetCode: 0 Status: OK