Package: SNAGEEdata Version: 1.42.0 Command: /home/biocbuild/bbs-3.20-bioc/R/bin/R CMD build --keep-empty-dirs --no-resave-data SNAGEEdata StartedAt: 2025-01-30 11:39:07 -0500 (Thu, 30 Jan 2025) EndedAt: 2025-01-30 11:39:10 -0500 (Thu, 30 Jan 2025) EllapsedTime: 3.0 seconds RetCode: 0 Status: OK PackageFile: SNAGEEdata_1.42.0.tar.gz PackageFileSize: 29.22 MiB