Package: STexampleData Version: 1.14.0 Command: /home/biocbuild/bbs-3.20-bioc/R/bin/R CMD build --keep-empty-dirs --no-resave-data STexampleData StartedAt: 2025-02-11 11:39:42 -0500 (Tue, 11 Feb 2025) EndedAt: 2025-02-11 11:41:20 -0500 (Tue, 11 Feb 2025) EllapsedTime: 98.1 seconds RetCode: 0 Status: OK PackageFile: STexampleData_1.14.0.tar.gz PackageFileSize: 235.5 KiB