Package: STexampleData Version: 1.14.0 Command: /home/biocbuild/bbs-3.20-bioc/R/bin/R CMD INSTALL STexampleData StartedAt: 2025-02-11 10:59:42 -0500 (Tue, 11 Feb 2025) EndedAt: 2025-02-11 11:00:16 -0500 (Tue, 11 Feb 2025) EllapsedTime: 33.8 seconds RetCode: 0 Status: OK