Package: SimBenchData Version: 1.14.0 Command: /home/biocbuild/bbs-3.20-bioc/R/bin/R CMD build --keep-empty-dirs --no-resave-data SimBenchData StartedAt: 2025-02-06 11:37:07 -0500 (Thu, 06 Feb 2025) EndedAt: 2025-02-06 11:37:28 -0500 (Thu, 06 Feb 2025) EllapsedTime: 21.2 seconds RetCode: 0 Status: OK PackageFile: SimBenchData_1.14.0.tar.gz PackageFileSize: 236 KiB