Package: SimBenchData Version: 1.14.0 Command: /home/biocbuild/bbs-3.20-bioc/R/bin/R CMD INSTALL SimBenchData StartedAt: 2025-02-06 10:57:37 -0500 (Thu, 06 Feb 2025) EndedAt: 2025-02-06 10:57:51 -0500 (Thu, 06 Feb 2025) EllapsedTime: 13.6 seconds RetCode: 0 Status: OK