Package: Single.mTEC.Transcriptomes Version: 1.34.0 Command: /home/biocbuild/bbs-3.20-bioc/R/bin/R CMD check --install=check:Single.mTEC.Transcriptomes.install-out.txt --library=/home/biocbuild/bbs-3.20-bioc/R/site-library --timings Single.mTEC.Transcriptomes_1.34.0.tar.gz StartedAt: 2025-02-06 12:38:24 -0500 (Thu, 06 Feb 2025) EndedAt: 2025-02-06 12:46:28 -0500 (Thu, 06 Feb 2025) EllapsedTime: 483.8 seconds RetCode: 0 Status: OK CheckDir: Single.mTEC.Transcriptomes.Rcheck Warnings: 0