Package: SingleCellMultiModal Version: 1.18.0 Command: /home/biocbuild/bbs-3.20-bioc/R/bin/R CMD check --install=check:SingleCellMultiModal.install-out.txt --library=/home/biocbuild/bbs-3.20-bioc/R/site-library --timings SingleCellMultiModal_1.18.0.tar.gz StartedAt: 2025-01-30 12:40:25 -0500 (Thu, 30 Jan 2025) EndedAt: 2025-01-30 12:51:26 -0500 (Thu, 30 Jan 2025) EllapsedTime: 661.5 seconds RetCode: 0 Status: OK CheckDir: SingleCellMultiModal.Rcheck Warnings: 0