Package: SingleCellMultiModal Version: 1.18.0 Command: /home/biocbuild/bbs-3.20-bioc/R/bin/R CMD INSTALL SingleCellMultiModal StartedAt: 2025-01-30 11:00:07 -0500 (Thu, 30 Jan 2025) EndedAt: 2025-01-30 11:00:40 -0500 (Thu, 30 Jan 2025) EllapsedTime: 33.3 seconds RetCode: 0 Status: OK