Package: SomatiCAData Version: 1.44.0 Maintainer: Mengjie Chen MaintainerEmail: mengjie.chen at yale.edu git_url: https://git.bioconductor.org/packages/SomatiCAData git_branch: RELEASE_3_20 git_last_commit: c84ee6c git_last_commit_date: 2024-10-29 09:35:46 -0500 (Tue, 29 Oct 2024)