Package: SomatiCAData Version: 1.44.0 Command: /home/biocbuild/bbs-3.20-bioc/R/bin/R CMD check --install=check:SomatiCAData.install-out.txt --library=/home/biocbuild/bbs-3.20-bioc/R/site-library --timings SomatiCAData_1.44.0.tar.gz StartedAt: 2025-01-30 12:41:34 -0500 (Thu, 30 Jan 2025) EndedAt: 2025-01-30 12:43:32 -0500 (Thu, 30 Jan 2025) EllapsedTime: 118.8 seconds RetCode: 0 Status: WARNINGS CheckDir: SomatiCAData.Rcheck Warnings: 2