Package: SomaticCancerAlterations Version: 1.42.0 Command: /home/biocbuild/bbs-3.20-bioc/R/bin/R CMD build --keep-empty-dirs --no-resave-data SomaticCancerAlterations StartedAt: 2025-01-30 11:39:13 -0500 (Thu, 30 Jan 2025) EndedAt: 2025-01-30 11:39:42 -0500 (Thu, 30 Jan 2025) EllapsedTime: 28.8 seconds RetCode: 0 Status: OK PackageFile: SomaticCancerAlterations_1.42.0.tar.gz PackageFileSize: 4.442 MiB