Package: SpatialDatasets Version: 1.4.0 Command: /home/biocbuild/bbs-3.20-bioc/R/bin/R CMD INSTALL SpatialDatasets StartedAt: 2025-02-06 10:59:16 -0500 (Thu, 06 Feb 2025) EndedAt: 2025-02-06 10:59:44 -0500 (Thu, 06 Feb 2025) EllapsedTime: 27.8 seconds RetCode: 0 Status: OK