Package: SubcellularSpatialData Version: 1.2.0 Command: /home/biocbuild/bbs-3.20-bioc/R/bin/R CMD check --install=check:SubcellularSpatialData.install-out.txt --library=/home/biocbuild/bbs-3.20-bioc/R/site-library --timings SubcellularSpatialData_1.2.0.tar.gz StartedAt: 2025-02-06 12:40:58 -0500 (Thu, 06 Feb 2025) EndedAt: 2025-02-06 12:42:38 -0500 (Thu, 06 Feb 2025) EllapsedTime: 100.3 seconds RetCode: 0 Status: OK CheckDir: SubcellularSpatialData.Rcheck Warnings: 0