Package: SubcellularSpatialData Version: 1.2.0 Command: /home/biocbuild/bbs-3.20-bioc/R/bin/R CMD INSTALL SubcellularSpatialData StartedAt: 2025-02-11 11:03:26 -0500 (Tue, 11 Feb 2025) EndedAt: 2025-02-11 11:03:28 -0500 (Tue, 11 Feb 2025) EllapsedTime: 2.0 seconds RetCode: 0 Status: OK