Package: TBX20BamSubset Version: 1.42.0 Command: /home/biocbuild/bbs-3.20-bioc/R/bin/R CMD INSTALL TBX20BamSubset StartedAt: 2025-02-06 11:01:51 -0500 (Thu, 06 Feb 2025) EndedAt: 2025-02-06 11:02:02 -0500 (Thu, 06 Feb 2025) EllapsedTime: 10.5 seconds RetCode: 0 Status: OK