Package: TCGAWorkflowData Version: 1.30.0 Command: /home/biocbuild/bbs-3.20-bioc/R/bin/R CMD INSTALL TCGAWorkflowData StartedAt: 2025-02-11 11:05:09 -0500 (Tue, 11 Feb 2025) EndedAt: 2025-02-11 11:06:10 -0500 (Tue, 11 Feb 2025) EllapsedTime: 60.8 seconds RetCode: 0 Status: OK