Package: TCGAbiolinksGUI.data Version: 1.26.0 Command: /home/biocbuild/bbs-3.20-bioc/R/bin/R CMD build --keep-empty-dirs --no-resave-data TCGAbiolinksGUI.data StartedAt: 2025-01-30 11:40:46 -0500 (Thu, 30 Jan 2025) EndedAt: 2025-01-30 11:41:18 -0500 (Thu, 30 Jan 2025) EllapsedTime: 31.7 seconds RetCode: 0 Status: OK PackageFile: TCGAbiolinksGUI.data_1.26.0.tar.gz PackageFileSize: 21.86 MiB