Package: TCGAbiolinksGUI.data Version: 1.26.0 Command: /home/biocbuild/bbs-3.20-bioc/R/bin/R CMD check --install=check:TCGAbiolinksGUI.data.install-out.txt --library=/home/biocbuild/bbs-3.20-bioc/R/site-library --timings TCGAbiolinksGUI.data_1.26.0.tar.gz StartedAt: 2025-01-30 12:45:31 -0500 (Thu, 30 Jan 2025) EndedAt: 2025-01-30 12:49:08 -0500 (Thu, 30 Jan 2025) EllapsedTime: 216.9 seconds RetCode: 0 Status: WARNINGS CheckDir: TCGAbiolinksGUI.data.Rcheck Warnings: 1