Package: TENxBUSData Version: 1.20.0 Command: /home/biocbuild/bbs-3.20-bioc/R/bin/R CMD check --install=check:TENxBUSData.install-out.txt --library=/home/biocbuild/bbs-3.20-bioc/R/site-library --timings TENxBUSData_1.20.0.tar.gz StartedAt: 2025-01-30 12:47:12 -0500 (Thu, 30 Jan 2025) EndedAt: 2025-01-30 12:48:56 -0500 (Thu, 30 Jan 2025) EllapsedTime: 103.6 seconds RetCode: 0 Status: OK CheckDir: TENxBUSData.Rcheck Warnings: 0