Package: TENxBUSData Version: 1.20.0 Command: /home/biocbuild/bbs-3.20-bioc/R/bin/R CMD INSTALL TENxBUSData StartedAt: 2025-02-06 10:57:07 -0500 (Thu, 06 Feb 2025) EndedAt: 2025-02-06 10:57:21 -0500 (Thu, 06 Feb 2025) EllapsedTime: 13.4 seconds RetCode: 0 Status: OK