Package: TENxBrainData Version: 1.26.0 Command: /home/biocbuild/bbs-3.20-bioc/R/bin/R CMD check --install=check:TENxBrainData.install-out.txt --library=/home/biocbuild/bbs-3.20-bioc/R/site-library --timings TENxBrainData_1.26.0.tar.gz StartedAt: 2025-01-30 12:46:53 -0500 (Thu, 30 Jan 2025) EndedAt: 2025-01-30 12:51:55 -0500 (Thu, 30 Jan 2025) EllapsedTime: 302.0 seconds RetCode: 0 Status: OK CheckDir: TENxBrainData.Rcheck Warnings: 0