Package: TENxBrainData Version: 1.26.0 Command: /home/biocbuild/bbs-3.20-bioc/R/bin/R CMD INSTALL TENxBrainData StartedAt: 2025-01-30 10:59:50 -0500 (Thu, 30 Jan 2025) EndedAt: 2025-01-30 11:00:24 -0500 (Thu, 30 Jan 2025) EllapsedTime: 34.1 seconds RetCode: 0 Status: OK