Package: TENxXeniumData Version: 1.2.0 Command: /home/biocbuild/bbs-3.20-bioc/R/bin/R CMD build --keep-empty-dirs --no-resave-data TENxXeniumData StartedAt: 2025-02-06 11:39:55 -0500 (Thu, 06 Feb 2025) EndedAt: 2025-02-06 11:42:37 -0500 (Thu, 06 Feb 2025) EllapsedTime: 162.1 seconds RetCode: 0 Status: OK PackageFile: TENxXeniumData_1.2.0.tar.gz PackageFileSize: 224.9 KiB