Package: TENxXeniumData Version: 1.2.0 Command: /home/biocbuild/bbs-3.20-bioc/R/bin/R CMD check --install=check:TENxXeniumData.install-out.txt --library=/home/biocbuild/bbs-3.20-bioc/R/site-library --timings TENxXeniumData_1.2.0.tar.gz StartedAt: 2025-02-06 12:46:16 -0500 (Thu, 06 Feb 2025) EndedAt: 2025-02-06 12:53:18 -0500 (Thu, 06 Feb 2025) EllapsedTime: 421.8 seconds RetCode: 0 Status: WARNINGS CheckDir: TENxXeniumData.Rcheck Warnings: 1