Package: TabulaMurisData Version: 1.24.0 Command: /home/biocbuild/bbs-3.20-bioc/R/bin/R CMD build --keep-empty-dirs --no-resave-data TabulaMurisData StartedAt: 2025-01-30 11:40:04 -0500 (Thu, 30 Jan 2025) EndedAt: 2025-01-30 11:41:02 -0500 (Thu, 30 Jan 2025) EllapsedTime: 57.7 seconds RetCode: 0 Status: OK PackageFile: TabulaMurisData_1.24.0.tar.gz PackageFileSize: 220 KiB