Package: TabulaMurisSenisData Version: 1.12.0 Command: /home/biocbuild/bbs-3.20-bioc/R/bin/R CMD build --keep-empty-dirs --no-resave-data TabulaMurisSenisData StartedAt: 2025-02-06 11:38:37 -0500 (Thu, 06 Feb 2025) EndedAt: 2025-02-06 11:40:18 -0500 (Thu, 06 Feb 2025) EllapsedTime: 101.6 seconds RetCode: 0 Status: OK PackageFile: TabulaMurisSenisData_1.12.0.tar.gz PackageFileSize: 2.502 MiB