Package: TabulaMurisSenisData Version: 1.12.0 Command: /home/biocbuild/bbs-3.20-bioc/R/bin/R CMD check --install=check:TabulaMurisSenisData.install-out.txt --library=/home/biocbuild/bbs-3.20-bioc/R/site-library --timings TabulaMurisSenisData_1.12.0.tar.gz StartedAt: 2025-02-06 12:42:07 -0500 (Thu, 06 Feb 2025) EndedAt: 2025-02-06 12:47:10 -0500 (Thu, 06 Feb 2025) EllapsedTime: 303.2 seconds RetCode: 0 Status: OK CheckDir: TabulaMurisSenisData.Rcheck Warnings: 0