Package: TargetSearchData Version: 1.44.0 Command: /home/biocbuild/bbs-3.20-bioc/R/bin/R CMD build --keep-empty-dirs --no-resave-data TargetSearchData StartedAt: 2025-02-06 11:38:58 -0500 (Thu, 06 Feb 2025) EndedAt: 2025-02-06 11:39:27 -0500 (Thu, 06 Feb 2025) EllapsedTime: 28.9 seconds RetCode: 0 Status: OK PackageFile: TargetSearchData_1.44.0.tar.gz PackageFileSize: 29.86 MiB