Package: TimerQuant Version: 1.36.0 Command: /home/biocbuild/bbs-3.20-bioc/R/bin/R CMD build --keep-empty-dirs --no-resave-data TimerQuant StartedAt: 2025-01-30 11:41:38 -0500 (Thu, 30 Jan 2025) EndedAt: 2025-01-30 11:42:34 -0500 (Thu, 30 Jan 2025) EllapsedTime: 55.6 seconds RetCode: 0 Status: OK PackageFile: TimerQuant_1.36.0.tar.gz PackageFileSize: 1.746 MiB