Package: TumourMethData Version: 1.4.0 Command: /home/biocbuild/bbs-3.20-bioc/R/bin/R CMD build --keep-empty-dirs --no-resave-data TumourMethData StartedAt: 2025-02-06 11:41:05 -0500 (Thu, 06 Feb 2025) EndedAt: 2025-02-06 11:41:49 -0500 (Thu, 06 Feb 2025) EllapsedTime: 43.8 seconds RetCode: 0 Status: OK PackageFile: TumourMethData_1.4.0.tar.gz PackageFileSize: 20.66 KiB