Package: VectraPolarisData Version: 1.10.0 Command: /home/biocbuild/bbs-3.20-bioc/R/bin/R CMD build --keep-empty-dirs --no-resave-data VectraPolarisData StartedAt: 2025-02-06 11:41:33 -0500 (Thu, 06 Feb 2025) EndedAt: 2025-02-06 11:43:08 -0500 (Thu, 06 Feb 2025) EllapsedTime: 95.1 seconds RetCode: 0 Status: OK PackageFile: VectraPolarisData_1.10.0.tar.gz PackageFileSize: 794.2 KiB