Package: VectraPolarisData Version: 1.10.0 Command: /home/biocbuild/bbs-3.20-bioc/R/bin/R CMD check --install=check:VectraPolarisData.install-out.txt --library=/home/biocbuild/bbs-3.20-bioc/R/site-library --timings VectraPolarisData_1.10.0.tar.gz StartedAt: 2025-02-06 12:49:19 -0500 (Thu, 06 Feb 2025) EndedAt: 2025-02-06 12:53:46 -0500 (Thu, 06 Feb 2025) EllapsedTime: 266.5 seconds RetCode: 0 Status: OK CheckDir: VectraPolarisData.Rcheck Warnings: 0