Package: WES.1KG.WUGSC Version: 1.38.0 Maintainer: Yuchao Jiang MaintainerEmail: yuchaoj at wharton.upenn.edu git_url: https://git.bioconductor.org/packages/WES.1KG.WUGSC git_branch: RELEASE_3_20 git_last_commit: c7e4929 git_last_commit_date: 2024-10-29 09:40:35 -0500 (Tue, 29 Oct 2024)