Package: WGSmapp Version: 1.18.0 Command: /home/biocbuild/bbs-3.20-bioc/R/bin/R CMD build --keep-empty-dirs --no-resave-data WGSmapp StartedAt: 2025-02-06 11:41:59 -0500 (Thu, 06 Feb 2025) EndedAt: 2025-02-06 11:42:18 -0500 (Thu, 06 Feb 2025) EllapsedTime: 18.3 seconds RetCode: 0 Status: OK PackageFile: WGSmapp_1.18.0.tar.gz PackageFileSize: 195.7 MiB