Package: WGSmapp Version: 1.18.0 Command: /home/biocbuild/bbs-3.20-bioc/R/bin/R CMD INSTALL WGSmapp StartedAt: 2025-02-06 10:58:27 -0500 (Thu, 06 Feb 2025) EndedAt: 2025-02-06 10:59:13 -0500 (Thu, 06 Feb 2025) EllapsedTime: 45.3 seconds RetCode: 0 Status: OK