Package: WeberDivechaLCdata Version: 1.8.0 Command: /home/biocbuild/bbs-3.20-bioc/R/bin/R CMD INSTALL WeberDivechaLCdata StartedAt: 2025-02-06 10:59:00 -0500 (Thu, 06 Feb 2025) EndedAt: 2025-02-06 10:59:28 -0500 (Thu, 06 Feb 2025) EllapsedTime: 27.2 seconds RetCode: 0 Status: OK