Package: affydata Version: 1.54.0 Command: /home/biocbuild/bbs-3.20-bioc/R/bin/R CMD check --install=check:affydata.install-out.txt --library=/home/biocbuild/bbs-3.20-bioc/R/site-library --timings affydata_1.54.0.tar.gz StartedAt: 2025-01-30 11:45:47 -0500 (Thu, 30 Jan 2025) EndedAt: 2025-01-30 11:46:36 -0500 (Thu, 30 Jan 2025) EllapsedTime: 48.6 seconds RetCode: 0 Status: WARNINGS CheckDir: affydata.Rcheck Warnings: 2