Package: airway Version: 1.26.0 Command: /home/biocbuild/bbs-3.20-bioc/R/bin/R CMD check --install=check:airway.install-out.txt --library=/home/biocbuild/bbs-3.20-bioc/R/site-library --timings airway_1.26.0.tar.gz StartedAt: 2025-01-30 11:45:47 -0500 (Thu, 30 Jan 2025) EndedAt: 2025-01-30 11:46:58 -0500 (Thu, 30 Jan 2025) EllapsedTime: 70.5 seconds RetCode: 0 Status: WARNINGS CheckDir: airway.Rcheck Warnings: 1