Package: antiProfilesData Version: 1.42.0 Command: /home/biocbuild/bbs-3.20-bioc/R/bin/R CMD INSTALL antiProfilesData StartedAt: 2025-01-30 10:56:08 -0500 (Thu, 30 Jan 2025) EndedAt: 2025-01-30 10:56:10 -0500 (Thu, 30 Jan 2025) EllapsedTime: 2.7 seconds RetCode: 0 Status: OK